BEGIN:VCALENDAR
PRODID:-//commercialrealestate.com.au//NONSGML ical.net 4.0//EN
VERSION:2.0
BEGIN:VEVENT
DESCRIPTION:A PRIVATE RURAL SANCTUARY WHERE COUNTRY MEETS COAST\nPresented
  by Ashley-John Hatch and Aaron Blackburn of One Agency Elite Property Gr
 oup.\n\nIn the quiet embrace of Little Forest with Morton National Park a
 s your neighbour\, sits a rare and enchanting retreat on 42 acres\, the a
 ir is crisp with possibility\, the horizons vast and uninterrupted\, and 
 the sense of seclusion profound  a place where time slows and nature whis
 pers it's timeless secrets.\n\nImagine waking to the golden light spillin
 g across gentle hills\, wombats and kangaroos strolling past your bedroom
  windows\, the distant call of birds echoing against your very own natura
 l private creek and the freedom of wide-open spaces that invite dreams to
  unfold. This hidden haven offers the ultimate escape: privacy wrapped in
  natural beauty\, with room to breathe\, create\, and reconnect  whether 
 cultivating gardens\, large bonfires providing all year round entertainme
 nt\, tending animals\, or simply savoring the tranquility of South Coast 
 rural life.\n\nYet convenience is never far away. Just moments down windi
 ng country lanes awaits the charming heritage village of Milton\, alive w
 ith artisanal boutiques\, acclaimed cafes\, restaurants and a warm commun
 ity spirit. Further afield\, the pristine sands and turquoise waters of M
 ollymook Beach\, Narrawallee & Lake Conjola beckon for lazy days by the s
 ea\, while national parks\, coastal and bush walks promise endless advent
 ure.\n\nTightly held and rarely offered\, properties like this capture th
 e very essence of the coveted South Coast lifestyle  serene\, inspiring\,
  and utterly irresistible. Your private paradise awaits.\n\nKey Highlight
 s:\n\n- Panoramic escarpment and rural vistas\n- Four bedrooms plus a ded
 icated study\n- Ceiling fans to all bedrooms and living areas\n- Inviting
  fireplace ideal for relaxed evenings at home\n- Expansive land for lifes
 tyle pursuits and total privacy\n- DA approval for further 2 x lot subdiv
 ision of 2.5 acres each\n- Successful AirBNB tiny home fetching $19\,000-
 $24\,000 per annum \n- Close to Milton village charm and Mollymook's worl
 d-class beaches\n- Natural running creek\, private picturesque & perfect 
 to swim in\n- 5 acres cleared and easy maintenance\n- Rainforest bush wal
 ks\, motorbike and mountain bike trails\, explore with the family and fri
 ends \n- 42 acres / 169\,968 m² approx \n\nVIEWING BY APPOINTMENT
DTEND:20260531T140000
DTSTAMP:20260423T122425Z
DTSTART:20260531T130000
LOCATION:317b Little Forest Road\, Little Forest NSW
SEQUENCE:0
SUMMARY:Auction: 317b Little Forest Road\, Little Forest NSW
UID:CRE-2020514555-Auction
X-ALT-DESC;FMTTYPE=text/html:<!DOCTYPE HTML PUBLIC "-//W3C//DTD HTML 3.2//EN"><html><head><
 title></title></head><body><P DIR=LTR>A PRIVATE RURAL SANCTUARY WHERE COU
 NTRY MEETS COAST <br/> Presented by Ashley-John Hatch and Aaron Blackburn
  of One Agency Elite Property Group. <br/>  <br/> In the quiet embrace of
  Little Forest with Morton National Park as your neighbour\, sits a rare 
 and enchanting retreat on 42 acres\, the air is crisp with possibility\, 
 the horizons vast and uninterrupted\, and the sense of seclusion profound
   a place where time slows and nature whispers it's timeless secrets. <br
 />  <br/> Imagine waking to the golden light spilling across gentle hills
 \, wombats and kangaroos strolling past your bedroom windows\, the distan
 t call of birds echoing against your very own natural private creek and t
 he freedom of wide-open spaces that invite dreams to unfold. This hidden 
 haven offers the ultimate escape: privacy wrapped in natural beauty\, wit
 h room to breathe\, create\, and reconnect  whether cultivating gardens\,
  large bonfires providing all year round entertainment\, tending animals\
 , or simply savoring the tranquility of South Coast rural life. <br/>  <b
 r/> Yet convenience is never far away. Just moments down winding country 
 lanes awaits the charming heritage village of Milton\, alive with artisan
 al boutiques\, acclaimed cafes\, restaurants and a warm community spirit.
  Further afield\, the pristine sands and turquoise waters of Mollymook Be
 ach\, Narrawallee & Lake Conjola beckon for lazy days by the sea\, while 
 national parks\, coastal and bush walks promise endless adventure. <br/> 
  <br/> Tightly held and rarely offered\, properties like this capture the
  very essence of the coveted South Coast lifestyle  serene\, inspiring\, 
 and utterly irresistible. Your private paradise awaits. <br/>  <br/> Key 
 Highlights: <br/>  <br/> - Panoramic escarpment and rural vistas <br/> - 
 Four bedrooms plus a dedicated study <br/> - Ceiling fans to all bedrooms
  and living areas <br/> - Inviting fireplace ideal for relaxed evenings a
 t home <br/> - Expansive land for lifestyle pursuits and total privacy <b
 r/> - DA approval for further 2 x lot subdivision of 2.5 acres each <br/>
  - Successful AirBNB tiny home fetching $19\,000-$24\,000 per annum  <br/
 > - Close to Milton village charm and Mollymook's world-class beaches <br
 /> - Natural running creek\, private picturesque & perfect to swim in <br
 /> - 5 acres cleared and easy maintenance <br/> - Rainforest bush walks\,
  motorbike and mountain bike trails\, explore with the family and friends
   <br/> - 42 acres / 169\,968 m² approx  <br/>  <br/> VIEWING BY APPOINTM
 ENT</P></body></html>
END:VEVENT
END:VCALENDAR
